BEGIN:VCALENDAR
VERSION:2.0
PRODID:-//Cooperativas de las Américas - ECPv6.15.20//NONSGML v1.0//EN
CALSCALE:GREGORIAN
METHOD:PUBLISH
X-WR-CALNAME:Cooperativas de las Américas
X-ORIGINAL-URL:https://aciamericas.coop
X-WR-CALDESC:Eventos para Cooperativas de las Américas
REFRESH-INTERVAL;VALUE=DURATION:PT1H
X-Robots-Tag:noindex
X-PUBLISHED-TTL:PT1H
BEGIN:VTIMEZONE
TZID:America/Chicago
BEGIN:DAYLIGHT
TZOFFSETFROM:-0600
TZOFFSETTO:-0500
TZNAME:CDT
DTSTART:20250309T080000
END:DAYLIGHT
BEGIN:STANDARD
TZOFFSETFROM:-0500
TZOFFSETTO:-0600
TZNAME:CST
DTSTART:20251102T070000
END:STANDARD
BEGIN:DAYLIGHT
TZOFFSETFROM:-0600
TZOFFSETTO:-0500
TZNAME:CDT
DTSTART:20260308T080000
END:DAYLIGHT
BEGIN:STANDARD
TZOFFSETFROM:-0500
TZOFFSETTO:-0600
TZNAME:CST
DTSTART:20261101T070000
END:STANDARD
BEGIN:DAYLIGHT
TZOFFSETFROM:-0600
TZOFFSETTO:-0500
TZNAME:CDT
DTSTART:20270314T080000
END:DAYLIGHT
BEGIN:STANDARD
TZOFFSETFROM:-0500
TZOFFSETTO:-0600
TZNAME:CST
DTSTART:20271107T070000
END:STANDARD
END:VTIMEZONE
BEGIN:VEVENT
DTSTART;TZID=America/Chicago:20260918T120000
DTEND;TZID=America/Chicago:20260918T140000
DTSTAMP:20260423T213325
CREATED:20260413T161548Z
LAST-MODIFIED:20260413T161709Z
UID:11731-1789732800-1789740000@aciamericas.coop
SUMMARY:Asamblea Regional Electiva 2026
DESCRIPTION:En 2026\, Cooperativas de las Américas llevará a cabo su Asamblea Regional electiva junto con las Asambleas Regionales de los Comités Sectoriales y Temáticos\, en el marco de una semana clave para el movimiento cooperativo global en el mes de setiembre en Panamá. \nEste espacio reúne a las organizaciones miembros de la región para participar en los procesos de gobernanza\, fortalecer la representación y contribuir a la toma de decisiones que marcarán el rumbo del cooperativismo en las Américas. \nInvitamos a todas las organizaciones miembros a ser parte activa de este proceso\, ejerciendo sus derechos y responsabilidades\, y sumándose a la construcción colectiva del futuro del movimiento cooperativo regional. \nMás adelante compartiremos más información. 
URL:https://aciamericas.coop/eventosaciamericas/asamblea-regional-2026/
LOCATION:Panama Convention Center\, Calle Gral. Juan D. Peron\, Panamá\, Provincia de Panamá\, Panamá\, Panama
CATEGORIES:Eventos
ATTACH;FMTTYPE=image/png:https://aciamericas.coop/wp-content/uploads/2025/07/Panama-1.png
END:VEVENT
END:VCALENDAR