BEGIN:VCALENDAR
VERSION:2.0
PRODID:-//Cooperativas de las Américas - ECPv6.15.20//NONSGML v1.0//EN
CALSCALE:GREGORIAN
METHOD:PUBLISH
X-WR-CALNAME:Cooperativas de las Américas
X-ORIGINAL-URL:https://aciamericas.coop
X-WR-CALDESC:Eventos para Cooperativas de las Américas
REFRESH-INTERVAL;VALUE=DURATION:PT1H
X-Robots-Tag:noindex
X-PUBLISHED-TTL:PT1H
BEGIN:VTIMEZONE
TZID:America/Chicago
BEGIN:DAYLIGHT
TZOFFSETFROM:-0600
TZOFFSETTO:-0500
TZNAME:CDT
DTSTART:20250309T080000
END:DAYLIGHT
BEGIN:STANDARD
TZOFFSETFROM:-0500
TZOFFSETTO:-0600
TZNAME:CST
DTSTART:20251102T070000
END:STANDARD
BEGIN:DAYLIGHT
TZOFFSETFROM:-0600
TZOFFSETTO:-0500
TZNAME:CDT
DTSTART:20260308T080000
END:DAYLIGHT
BEGIN:STANDARD
TZOFFSETFROM:-0500
TZOFFSETTO:-0600
TZNAME:CST
DTSTART:20261101T070000
END:STANDARD
BEGIN:DAYLIGHT
TZOFFSETFROM:-0600
TZOFFSETTO:-0500
TZNAME:CDT
DTSTART:20270314T080000
END:DAYLIGHT
BEGIN:STANDARD
TZOFFSETFROM:-0500
TZOFFSETTO:-0600
TZNAME:CST
DTSTART:20271107T070000
END:STANDARD
END:VTIMEZONE
BEGIN:VEVENT
DTSTART;TZID=America/Chicago:20260423T120000
DTEND;TZID=America/Chicago:20260423T140000
DTSTAMP:20260423T184530
CREATED:20260325T181053Z
LAST-MODIFIED:20260408T153010Z
UID:515-1776945600-1776952800@aciamericas.coop
SUMMARY:Webinar: Mujeres agricultoras en las Américas. Realidades\, desafíos y tendencias regionales
DESCRIPTION:Organizado por: REDACOOP – Comité Regional de Juventud – Comité Regional de Equidad de Género. Con la participación de la FAO – Oficina Regional para América Latina y el Caribe \n \nEn el marco del Año Internacional de la Mujer Agricultora y del Año Internacional de los Pastizales y los Pastores\, proclamados por las Naciones Unidas\, Cooperativas de las Américas impulsa la serie regional Voces del territorio\, orientada a visibilizar el rol estratégico de las mujeres en los sistemas agroalimentarios y en la sostenibilidad de los territorios rurales. \nEste primer webinar cuenta con la participación confirmada de la FAO – Oficina Regional para América Latina y el Caribe\, fortaleciendo el diálogo entre el cooperativismo agropecuario y los marcos técnicos regionales. \nInscríbase aquí:  \n \n\n\n\nEnlace de inscripción
URL:https://aciamericas.coop/eventosaciamericas/webinar-mujeres-agricultoras-en-las-americas-realidades-desafios-y-tendencias-regionales/
CATEGORIES:Eventos
ATTACH;FMTTYPE=image/png:https://aciamericas.coop/wp-content/uploads/2026/03/Webinar-1.-Serie-Voces-del-Territorio-v3.0-para-redes.png
END:VEVENT
END:VCALENDAR